BEGIN:VCALENDAR
VERSION:2.0
PRODID:-//eventon.com NONSGML v1.0//EN
CALSCALE:GREGORIAN
METHOD:PUBLISH
BEGIN:VEVENT
UID:69ea1f5278b63
DTSTAMP:20260423T133202Z
DTSTART:20250424T223000Z
DTEND:20250425T000000Z
LOCATION:https://zoom.us/test
SUMMARY:Exploring Allyship Learning Community
DESCRIPTION:This interactive learning community seeks to explore allyship t
 hrough the lens of Truth and Reconciliation\,  brave conversations about Ca
 nada’s true history\,  and the implications this history has left behind.
  Facilitated by: Kim Burns\,  RECE &amp; Amanda Karr\,  RECE\nhttps://ascy
 .ca/ascy-events/exploring-allyship-learning-community/var/event_access
URL:https://ascy.ca/ascy-events/exploring-allyship-learning-community/var/event_access
END:VEVENT
END:VCALENDAR